BEGIN:VCALENDAR
VERSION:2.0
PRODID:-//Florales trifft Kunst//Website//DE
CALSCALE:GREGORIAN
METHOD:PUBLISH
BEGIN:VEVENT
UID:gelli-plate-aufbaukurs@floralesmeetsart.de
DTSTAMP:20260422T155035Z
DTSTART:20260531T123000Z
DTEND:20260531T150000Z
SUMMARY:Workshop: Gelli Plate Aufbaukurs
DESCRIPTION:Vertiefende Techniken für alle\, die schon einmal mit einer Gelli-Platte gearbeitet haben. Mehr Schichten\, mehr Kontrolle\, mehr Möglichkeiten.\\n\\nAlle Infos: https://floralesmeetsart.de/workshops/gelli-plate-aufbaukurs/
LOCATION:WERK[39]\, Luisenstraße 39\, 63263 Neu-Isenburg
URL:https://floralesmeetsart.de/workshops/gelli-plate-aufbaukurs/
STATUS:CONFIRMED
BEGIN:VALARM
TRIGGER:-P1D
ACTION:DISPLAY
DESCRIPTION:Workshop morgen: Workshop: Gelli Plate Aufbaukurs
END:VALARM
END:VEVENT
END:VCALENDAR
