BEGIN:VCALENDAR
VERSION:2.0
PRODID:-//Florales trifft Kunst//Website//DE
CALSCALE:GREGORIAN
METHOD:PUBLISH
BEGIN:VEVENT
UID:gelli-plate-aufbaukurs-april@floralesmeetsart.de
DTSTAMP:20260422T171420Z
DTSTART:20260425T123000Z
DTEND:20260425T150000Z
SUMMARY:Workshop: Gelli Plate Aufbaukurs
DESCRIPTION:Vertiefende Gelli-Plate-Techniken für Fortgeschrittene: Layering\, Maskierung\, Strukturen und komplexere Kompositionen.\\n\\nAlle Infos: https://floralesmeetsart.de/workshops/gelli-plate-aufbaukurs-april/
LOCATION:WERK[39]\, Luisenstraße 39\, 63263 Neu-Isenburg
URL:https://floralesmeetsart.de/workshops/gelli-plate-aufbaukurs-april/
STATUS:CONFIRMED
BEGIN:VALARM
TRIGGER:-P1D
ACTION:DISPLAY
DESCRIPTION:Workshop morgen: Workshop: Gelli Plate Aufbaukurs
END:VALARM
END:VEVENT
END:VCALENDAR
