BEGIN:VCALENDAR
VERSION:2.0
PRODID:-//Florales trifft Kunst//Website//DE
CALSCALE:GREGORIAN
METHOD:PUBLISH
BEGIN:VEVENT
UID:gelli-plate-basiskurs-april@floralesmeetsart.de
DTSTAMP:20260422T171611Z
DTSTART:20260425T080000Z
DTEND:20260425T103000Z
SUMMARY:Workshop: Gelli Plate Basiskurs
DESCRIPTION:Ein entspannter Einstieg in eine der faszinierendsten zeitgenössischen Drucktechniken. Die Grundlagen von Farbaufbau\, Werkzeugwahl und Komposition – und am Ende eine Mappe voller eigener Drucke.\\n\\nAlle Infos: https://floralesmeetsart.de/workshops/gelli-plate-basiskurs-april/
LOCATION:WERK[39]\, Luisenstraße 39\, 63263 Neu-Isenburg
URL:https://floralesmeetsart.de/workshops/gelli-plate-basiskurs-april/
STATUS:CONFIRMED
BEGIN:VALARM
TRIGGER:-P1D
ACTION:DISPLAY
DESCRIPTION:Workshop morgen: Workshop: Gelli Plate Basiskurs
END:VALARM
END:VEVENT
END:VCALENDAR
