BEGIN:VCALENDAR
VERSION:2.0
PRODID:-//Florales trifft Kunst//Website//DE
CALSCALE:GREGORIAN
METHOD:PUBLISH
BEGIN:VEVENT
UID:mixed-media-weites-feld@floralesmeetsart.de
DTSTAMP:20260422T160932Z
DTSTART:20260426T080000Z
DTEND:20260426T103000Z
SUMMARY:Workshop: Mixed Media Workshop
DESCRIPTION:Die Landschaft als Ausgangspunkt – aber nicht als Motiv\, das du „abmalst“. Wir nutzen sie als Stimmung\, als Horizont\, als Weite. Und übersetzen sie in Material\, Farbe und Geste.\\n\\nAlle Infos: https://floralesmeetsart.de/workshops/mixed-media-weites-feld/
LOCATION:WERK[39]\, Luisenstraße 39\, 63263 Neu-Isenburg
URL:https://floralesmeetsart.de/workshops/mixed-media-weites-feld/
STATUS:CONFIRMED
BEGIN:VALARM
TRIGGER:-P1D
ACTION:DISPLAY
DESCRIPTION:Workshop morgen: Workshop: Mixed Media Workshop
END:VALARM
END:VEVENT
END:VCALENDAR
