BEGIN:VCALENDAR
VERSION:2.0
PRODID:-//Florales trifft Kunst//Website//DE
CALSCALE:GREGORIAN
METHOD:PUBLISH
BEGIN:VEVENT
UID:transfertechnik-farbfeld@floralesmeetsart.de
DTSTAMP:20260422T170747Z
DTSTART:20260627T080000Z
DTEND:20260627T103000Z
SUMMARY:Workshop: Transfertechnik Workshop
DESCRIPTION:Bildübertragung – haptisch\, konkret\, spannend. Fotos\, Schrift und Grafiken wandern auf neue Untergründe und treffen auf ruhige Farbflächen im Stil der Farbfeldmalerei.\\n\\nAlle Infos: https://floralesmeetsart.de/workshops/transfertechnik-farbfeld/
LOCATION:WERK[39]\, Luisenstraße 39\, 63263 Neu-Isenburg
URL:https://floralesmeetsart.de/workshops/transfertechnik-farbfeld/
STATUS:CONFIRMED
BEGIN:VALARM
TRIGGER:-P1D
ACTION:DISPLAY
DESCRIPTION:Workshop morgen: Workshop: Transfertechnik Workshop
END:VALARM
END:VEVENT
END:VCALENDAR
